BEGIN:VCALENDAR
VERSION:2.0
PRODID:-//wp-events-plugin.com//7.2.3.1//EN
TZID:Europe/Paris
X-WR-TIMEZONE:Europe/Paris
BEGIN:VEVENT
UID:2826@saint-die-des-vosges.fr
DTSTART;TZID=Europe/Paris:20260514T170000
DTEND;TZID=Europe/Paris:20260514T170000
DTSTAMP:20260416T120144Z
URL:https://www.saint-die-des-vosges.fr/agenda/cocktails-par-les-jardins-d
 e-la-chapelle/
SUMMARY:« Cocktails » par Les Jardins de la chapelle
DESCRIPTION:« Cocktails » par Les Jardins de la chapelle
ATTACH;FMTTYPE=image/jpeg:https://www.saint-die-des-vosges.fr/wp-content/u
 ploads/2026/04/chapelle-saint-roch.jpg
CATEGORIES:Culture - Loisirs
LOCATION:Chapelle Saint-Roch\, 14 Rue Claude Bassot\, Saint-Dié-des-Vosges
 \, France
X-APPLE-STRUCTURED-LOCATION;VALUE=URI;X-ADDRESS=14 Rue Claude Bassot\, Sain
 t-Dié-des-Vosges\, France;X-APPLE-RADIUS=100;X-TITLE=Chapelle Saint-Roch:
 geo:0,0
END:VEVENT
BEGIN:VTIMEZONE
TZID:Europe/Paris
X-LIC-LOCATION:Europe/Paris
BEGIN:DAYLIGHT
DTSTART:20260329T030000
TZOFFSETFROM:+0100
TZOFFSETTO:+0200
TZNAME:CEST
END:DAYLIGHT
END:VTIMEZONE
END:VCALENDAR