BEGIN:VCALENDAR
VERSION:2.0
PRODID:-//wp-events-plugin.com//7.2.3.1//EN
TZID:Europe/Paris
X-WR-TIMEZONE:Europe/Paris
BEGIN:VEVENT
UID:2790@saint-die-des-vosges.fr
DTSTART;TZID=Europe/Paris:20260505T090000
DTEND;TZID=Europe/Paris:20260505T193000
DTSTAMP:20260416T115735Z
URL:https://www.saint-die-des-vosges.fr/agenda/collecte-de-sang-2/
SUMMARY:Collecte de sang
DESCRIPTION:Collecte de sang
ATTACH;FMTTYPE=image/jpeg:https://www.saint-die-des-vosges.fr/wp-content/u
 ploads/2024/06/visuel-don-du-sang.jpg
CATEGORIES:Manifestations - Événements
LOCATION:Salle Carbonnar\, 27 Pl. de l'Europe\, Saint-Dié-des-Vosges\, Fra
 nce
X-APPLE-STRUCTURED-LOCATION;VALUE=URI;X-ADDRESS=27 Pl. de l'Europe\, Saint-
 Dié-des-Vosges\, France;X-APPLE-RADIUS=100;X-TITLE=Salle Carbonnar:geo:0,
 0
END:VEVENT
BEGIN:VTIMEZONE
TZID:Europe/Paris
X-LIC-LOCATION:Europe/Paris
BEGIN:DAYLIGHT
DTSTART:20260329T030000
TZOFFSETFROM:+0100
TZOFFSETTO:+0200
TZNAME:CEST
END:DAYLIGHT
END:VTIMEZONE
END:VCALENDAR