BEGIN:VCALENDAR
VERSION:2.0
PRODID:-//wp-events-plugin.com//7.2.3.1//EN
TZID:Europe/Paris
X-WR-TIMEZONE:Europe/Paris
BEGIN:VEVENT
UID:2781@saint-die-des-vosges.fr
DTSTART;TZID=Europe/Paris:20260502T200000
DTEND;TZID=Europe/Paris:20260502T200000
DTSTAMP:20260402T091944Z
URL:https://www.saint-die-des-vosges.fr/agenda/concert-de-louis-ville-supe
 r-8/
SUMMARY:concert de Louis Ville « Super 8 »
DESCRIPTION:concert de Louis Ville « Super 8 »
ATTACH;FMTTYPE=image/jpeg:https://www.saint-die-des-vosges.fr/wp-content/u
 ploads/2026/04/concert-louis-ville-2026.jpg
CATEGORIES:Culture - Loisirs
LOCATION:Chapelle Saint-Roch\, 14 Rue Claude Bassot\, Saint-Dié-des-Vosges
 \, France
X-APPLE-STRUCTURED-LOCATION;VALUE=URI;X-ADDRESS=14 Rue Claude Bassot\, Sain
 t-Dié-des-Vosges\, France;X-APPLE-RADIUS=100;X-TITLE=Chapelle Saint-Roch:
 geo:0,0
END:VEVENT
BEGIN:VTIMEZONE
TZID:Europe/Paris
X-LIC-LOCATION:Europe/Paris
BEGIN:DAYLIGHT
DTSTART:20260329T030000
TZOFFSETFROM:+0100
TZOFFSETTO:+0200
TZNAME:CEST
END:DAYLIGHT
END:VTIMEZONE
END:VCALENDAR