BEGIN:VCALENDAR
VERSION:2.0
PRODID:-//wp-events-plugin.com//7.2.3.1//EN
TZID:Europe/Paris
X-WR-TIMEZONE:Europe/Paris
BEGIN:VEVENT
UID:2822@saint-die-des-vosges.fr
DTSTART;TZID=Europe/Paris:20260507T170000
DTEND;TZID=Europe/Paris:20260507T170000
DTSTAMP:20260416T115827Z
URL:https://www.saint-die-des-vosges.fr/agenda/conference-bude-des-fils-so
 yeux-a-suivre-vers-le-monde-des-araignees/
SUMMARY:Conférence Budé « Des fils soyeux à suivre vers le monde des ar
 aignées »
DESCRIPTION:Conférence Budé « Des fils soyeux à suivre vers le monde de
 s araignées »
ATTACH;FMTTYPE=image/jpeg:https://www.saint-die-des-vosges.fr/wp-content/u
 ploads/2026/02/conference-bude.jpg
CATEGORIES:Culture - Loisirs
LOCATION:Amphithéâtre du lycée Jules-Ferry\, 48 Rue Saint-Charles\, Sain
 t-Dié-des-Vosges\, France
X-APPLE-STRUCTURED-LOCATION;VALUE=URI;X-ADDRESS=48 Rue Saint-Charles\, Sain
 t-Dié-des-Vosges\, France;X-APPLE-RADIUS=100;X-TITLE=Amphithéâtre du ly
 cée Jules-Ferry:geo:0,0
END:VEVENT
BEGIN:VTIMEZONE
TZID:Europe/Paris
X-LIC-LOCATION:Europe/Paris
BEGIN:DAYLIGHT
DTSTART:20260329T030000
TZOFFSETFROM:+0100
TZOFFSETTO:+0200
TZNAME:CEST
END:DAYLIGHT
END:VTIMEZONE
END:VCALENDAR