BEGIN:VCALENDAR
VERSION:2.0
PRODID:-//wp-events-plugin.com//7.2.3.1//EN
TZID:Europe/Paris
X-WR-TIMEZONE:Europe/Paris
BEGIN:VEVENT
UID:2820@saint-die-des-vosges.fr
DTSTART;TZID=Europe/Paris:20260429T190000
DTEND;TZID=Europe/Paris:20260429T190000
DTSTAMP:20260416T115508Z
URL:https://www.saint-die-des-vosges.fr/agenda/conseil-municipal/
SUMMARY:Conseil municipal
DESCRIPTION:Conseil municipal 
ATTACH;FMTTYPE=image/jpeg:https://www.saint-die-des-vosges.fr/wp-content/u
 ploads/2026/03/conseil-municipal.jpg
CATEGORIES:Manifestations - Événements
LOCATION:Hôtel de ville\, Pl. Jules Ferry\, Saint-Dié-des-Vosges\, France
X-APPLE-STRUCTURED-LOCATION;VALUE=URI;X-ADDRESS=Pl. Jules Ferry\, Saint-Di
 é-des-Vosges\, France;X-APPLE-RADIUS=100;X-TITLE=Hôtel de ville:geo:0,0
END:VEVENT
BEGIN:VTIMEZONE
TZID:Europe/Paris
X-LIC-LOCATION:Europe/Paris
BEGIN:DAYLIGHT
DTSTART:20260329T030000
TZOFFSETFROM:+0100
TZOFFSETTO:+0200
TZNAME:CEST
END:DAYLIGHT
END:VTIMEZONE
END:VCALENDAR