BEGIN:VCALENDAR
VERSION:2.0
PRODID:-//wp-events-plugin.com//7.2.3.1//EN
TZID:Europe/Paris
X-WR-TIMEZONE:Europe/Paris
BEGIN:VEVENT
UID:2785@saint-die-des-vosges.fr
DTSTART;TZID=Europe/Paris:20260503T093000
DTEND;TZID=Europe/Paris:20260503T120000
DTSTAMP:20260402T114914Z
URL:https://www.saint-die-des-vosges.fr/agenda/exposition-de-voitures-anci
 ennes-et-de-de-prestige-par-ecurie-gentiane-historique-2/
SUMMARY:Exposition de voitures anciennes et de de prestige par Ecurie Genti
 ane Historique
DESCRIPTION:Exposition de voitures anciennes et de de prestige par Ecurie G
 entiane Historique
ATTACH;FMTTYPE=image/jpeg:https://www.saint-die-des-vosges.fr/wp-content/u
 ploads/2025/05/vehicules-de-collection.jpg
CATEGORIES:Manifestations - Événements
LOCATION:Place du marché\, Quai du Maréchal-Leclerc\, Saint-Dié-des-Vosg
 es\, France
X-APPLE-STRUCTURED-LOCATION;VALUE=URI;X-ADDRESS=Quai du Maréchal-Leclerc\,
  Saint-Dié-des-Vosges\, France;X-APPLE-RADIUS=100;X-TITLE=Place du march
 é:geo:0,0
END:VEVENT
BEGIN:VTIMEZONE
TZID:Europe/Paris
X-LIC-LOCATION:Europe/Paris
BEGIN:DAYLIGHT
DTSTART:20260329T030000
TZOFFSETFROM:+0100
TZOFFSETTO:+0200
TZNAME:CEST
END:DAYLIGHT
END:VTIMEZONE
END:VCALENDAR