BEGIN:VCALENDAR
VERSION:2.0
PRODID:-//wp-events-plugin.com//7.2.3.1//EN
TZID:Europe/Paris
X-WR-TIMEZONE:Europe/Paris
BEGIN:VEVENT
UID:2794@saint-die-des-vosges.fr
DTSTART;TZID=Europe/Paris:20260508T090000
DTEND;TZID=Europe/Paris:20260508T090000
DTSTAMP:20260403T144246Z
URL:https://www.saint-die-des-vosges.fr/agenda/marche-de-robache-proposee-
 par-le-club-des-molieres/
SUMMARY:Marche de Robache proposée par le club des Molières
DESCRIPTION:Marche de Robache proposée par le club des Molières
ATTACH;FMTTYPE=image/jpeg:https://www.saint-die-des-vosges.fr/wp-content/u
 ploads/2024/07/randonnee.jpg
CATEGORIES:Sports
LOCATION:Maison de quartier de Robache\, route de Robache\, Saint-Dié-des-
 Vosges\, France
X-APPLE-STRUCTURED-LOCATION;VALUE=URI;X-ADDRESS=route de Robache\, Saint-Di
 é-des-Vosges\, France;X-APPLE-RADIUS=100;X-TITLE=Maison de quartier de Ro
 bache:geo:0,0
END:VEVENT
BEGIN:VTIMEZONE
TZID:Europe/Paris
X-LIC-LOCATION:Europe/Paris
BEGIN:DAYLIGHT
DTSTART:20260329T030000
TZOFFSETFROM:+0100
TZOFFSETTO:+0200
TZNAME:CEST
END:DAYLIGHT
END:VTIMEZONE
END:VCALENDAR