BEGIN:VCALENDAR
VERSION:2.0
PRODID:-//wp-events-plugin.com//7.2.3.1//EN
TZID:Europe/Paris
X-WR-TIMEZONE:Europe/Paris
BEGIN:VEVENT
UID:2795@saint-die-des-vosges.fr
DTSTART;TZID=Europe/Paris:20260508T100000
DTEND;TZID=Europe/Paris:20260508T100000
DTSTAMP:20260403T144340Z
URL:https://www.saint-die-des-vosges.fr/agenda/tour-du-kemberg-par-le-club
 -trailleurs/
SUMMARY:Tour du Kemberg par le club Tr’Ailleurs
DESCRIPTION:Tour du Kemberg par le club Tr’Ailleurs
ATTACH;FMTTYPE=image/jpeg:https://www.saint-die-des-vosges.fr/wp-content/u
 ploads/2026/04/tour-kemberg-2026.jpg
CATEGORIES:Sports
LOCATION:Parking des Trois-Fauteuils\, N59\, Saint-Dié-des-Vosges\, France
X-APPLE-STRUCTURED-LOCATION;VALUE=URI;X-ADDRESS=N59\, Saint-Dié-des-Vosges
 \, France;X-APPLE-RADIUS=100;X-TITLE=Parking des Trois-Fauteuils:geo:0,0
END:VEVENT
BEGIN:VTIMEZONE
TZID:Europe/Paris
X-LIC-LOCATION:Europe/Paris
BEGIN:DAYLIGHT
DTSTART:20260329T030000
TZOFFSETFROM:+0100
TZOFFSETTO:+0200
TZNAME:CEST
END:DAYLIGHT
END:VTIMEZONE
END:VCALENDAR