BEGIN:VCALENDAR
VERSION:2.0
PRODID:-//wp-events-plugin.com//7.2.3.1//EN
TZID:Europe/Paris
X-WR-TIMEZONE:Europe/Paris
BEGIN:VEVENT
UID:2792@saint-die-des-vosges.fr
DTSTART;TZID=Europe/Paris:20260505T203000
DTEND;TZID=Europe/Paris:20260505T203000
DTSTAMP:20260403T144020Z
URL:https://www.saint-die-des-vosges.fr/agenda/volley-ball-pre-nationale-m
 asculine-les-loups-pole-strasbourg/
SUMMARY:Volley-ball\, Pré-nationale masculine\, Les Loups – Pôle Strasb
 ourg
DESCRIPTION:Volley-ball\, Pré-nationale masculine\, Les Loups – Pôle St
 rasbourg\n
ATTACH;FMTTYPE=image/jpeg:https://www.saint-die-des-vosges.fr/wp-content/u
 ploads/2024/08/logo-les-louves-volley.jpg
CATEGORIES:Sports
LOCATION:Gymnase Michel-Plinguier (COSEC)\, 18 Rue Mgr Foucault\, Saint-Di
 é-des-Vosges\, France
X-APPLE-STRUCTURED-LOCATION;VALUE=URI;X-ADDRESS=18 Rue Mgr Foucault\, Saint
 -Dié-des-Vosges\, France;X-APPLE-RADIUS=100;X-TITLE=Gymnase Michel-Plingu
 ier (COSEC):geo:0,0
END:VEVENT
BEGIN:VTIMEZONE
TZID:Europe/Paris
X-LIC-LOCATION:Europe/Paris
BEGIN:DAYLIGHT
DTSTART:20260329T030000
TZOFFSETFROM:+0100
TZOFFSETTO:+0200
TZNAME:CEST
END:DAYLIGHT
END:VTIMEZONE
END:VCALENDAR